BEGIN:VCALENDAR
VERSION:2.0
PRODID:http://www.katholisch-im-warndt.de
BEGIN:VEVENT
UID:19b77dca-3dfa-11f1-a3e9-0242ac11002b-1782636300000-de
DTSTAMP:20260422T031940Z
DTSTART:20260628T084500Z
DTEND:20260628T093000Z
SUMMARY;LANGUAGE=de: Wortgottesdienst mit Kommunionausteilung anschl. Fahrzeugsegnung
END:VEVENT
END:VCALENDAR
